BEGIN:VCALENDAR
VERSION:2.0
PRODID:-//https://caida.ubc.ca//NONSGML iCalcreator 2.41.92//
CALSCALE:GREGORIAN
METHOD:PUBLISH
UID:61376534-6235-4264-a235-646165363066
X-WR-RELCALID:efc09d74-9c93-479e-a94f-485231ddccde
X-WR-TIMEZONE:America/Vancouver
X-WR-CALNAME:Algorithmic Bias Panel Discussion
BEGIN:VTIMEZONE
TZID:America/Vancouver
TZUNTIL:20231105T090000Z
BEGIN:STANDARD
TZNAME:PST
DTSTART:20211107T020000
TZOFFSETFROM:-0700
TZOFFSETTO:-0800
RDATE:20221106T020000
END:STANDARD
BEGIN:DAYLIGHT
TZNAME:PDT
DTSTART:20210314T020000
TZOFFSETFROM:-0800
TZOFFSETTO:-0700
RDATE:20220313T020000
RDATE:20230312T020000
END:DAYLIGHT
END:VTIMEZONE
BEGIN:VEVENT
UID:0dd2aba4-f110-4732-b8f3-79a4e9e45d56
DTSTAMP:20260421T053729Z
CLASS:PUBLIC
CREATED:20210915T193123Z
DESCRIPTION:Please register for this event here. This Panel Discussion on A
 lgorithmic Bias is the third and final installment of 'Building an Ethical
  Algorithmic World: A 3-Part Series.' Interested in the ethics of algorith
 ms? Concerned with the current biases within algorithms and the dangers th
 ese biases pose to particular groups of people (e.g. women and darker-skin
 ned people)? Join us in this three-part Algorithmic Bias event to delve de
 eper into this issue. First watch a free screening of “ Coded Bias”\, then
  join a live Q&A session with the film’s director Shalini Kantayya. Finall
 y\, attend a panel…
DTSTART;TZID=America/Vancouver:20211104T120000
DTEND;TZID=America/Vancouver:20211104T130000
LAST-MODIFIED:20210920T181029Z
LOCATION:Please register to receive the Zoom link
SUMMARY:Algorithmic Bias Panel Discussion
TRANSP:OPAQUE
URL:https://caida.ubc.ca/event/algorithmic-bias-panel-discussion
END:VEVENT
END:VCALENDAR
