BEGIN:VCALENDAR
VERSION:2.0
PRODID:-//https://caida.ubc.ca//NONSGML iCalcreator 2.41.92//
CALSCALE:GREGORIAN
METHOD:PUBLISH
UID:37326636-6130-4465-a639-663539376333
X-WR-RELCALID:efc09d74-9c93-479e-a94f-485231ddccde
X-WR-TIMEZONE:America/Vancouver
X-WR-CALNAME:Imaging the Future
BEGIN:VTIMEZONE
TZID:America/Vancouver
TZUNTIL:20251102T090000Z
BEGIN:STANDARD
TZNAME:PST
DTSTART:20221106T020000
TZOFFSETFROM:-0700
TZOFFSETTO:-0800
RDATE:20231105T020000
RDATE:20241103T020000
END:STANDARD
BEGIN:DAYLIGHT
TZNAME:PDT
DTSTART:20230312T020000
TZOFFSETFROM:-0800
TZOFFSETTO:-0700
RDATE:20240310T020000
RDATE:20250309T020000
END:DAYLIGHT
END:VTIMEZONE
BEGIN:VEVENT
UID:49f88e13-10a9-4d8d-9867-51a6b2e822cf
DTSTAMP:20260418T030313Z
CLASS:PUBLIC
CREATED:20230921T195353Z
DESCRIPTION:Register Here INOVAIT\, UBC School of Biomedical Engineering\, 
 UBC Biomedical Imaging and AI Cluster\, and CAIDA: UBC ICICS Centre for Ar
 tificial Intelligence Decision-making and Action invites clinicians\, rese
 archers\, students\, engineers\, innovators\, and industry professionals t
 o join us for an insightful evening of exploration at our exclusive panel 
 and networking event in Vancouver as part of the INOVAIT Imaging the Futur
 e event series. Event Highlights: Panel Discussion: Engage in a thought-pr
 ovoking panel discussion featuring industry and academic leaders. This eve
 nt offers a unique…
DTSTART;TZID=America/Vancouver:20231018T163000
DTEND;TZID=America/Vancouver:20231018T173000
LAST-MODIFIED:20230921T200454Z
LOCATION:Fairmont Hotel (Saltspring Island Room AB) - 900 West Georgia Stre
 et\, Vancouver
SUMMARY:Imaging the Future
TRANSP:OPAQUE
URL:https://caida.ubc.ca/event/imaging-future
END:VEVENT
END:VCALENDAR
